BEGIN:VCALENDAR
VERSION:2.0
PRODID:-//JET Services - ECPv6.15.20//NONSGML v1.0//EN
CALSCALE:GREGORIAN
METHOD:PUBLISH
X-ORIGINAL-URL:https://jetservicesinc.com
X-WR-CALDESC:Events for JET Services
REFRESH-INTERVAL;VALUE=DURATION:PT1H
X-Robots-Tag:noindex
X-PUBLISHED-TTL:PT1H
BEGIN:VTIMEZONE
TZID:America/New_York
BEGIN:DAYLIGHT
TZOFFSETFROM:-0500
TZOFFSETTO:-0400
TZNAME:EDT
DTSTART:20230312T070000
END:DAYLIGHT
BEGIN:STANDARD
TZOFFSETFROM:-0400
TZOFFSETTO:-0500
TZNAME:EST
DTSTART:20231105T060000
END:STANDARD
BEGIN:DAYLIGHT
TZOFFSETFROM:-0500
TZOFFSETTO:-0400
TZNAME:EDT
DTSTART:20240310T070000
END:DAYLIGHT
BEGIN:STANDARD
TZOFFSETFROM:-0400
TZOFFSETTO:-0500
TZNAME:EST
DTSTART:20241103T060000
END:STANDARD
BEGIN:DAYLIGHT
TZOFFSETFROM:-0500
TZOFFSETTO:-0400
TZNAME:EDT
DTSTART:20250309T070000
END:DAYLIGHT
BEGIN:STANDARD
TZOFFSETFROM:-0400
TZOFFSETTO:-0500
TZNAME:EST
DTSTART:20251102T060000
END:STANDARD
END:VTIMEZONE
BEGIN:VEVENT
DTSTART;TZID=America/New_York:20240928T153000
DTEND;TZID=America/New_York:20240928T193000
DTSTAMP:20260419T104529
CREATED:20240110T172828Z
LAST-MODIFIED:20240722T222241Z
UID:3586-1727537400-1727551800@jetservicesinc.com
SUMMARY:D.C. United - Columbus Crew
DESCRIPTION:Calendar not up to date? Check https://fixtur.es/up-to-date
URL:https://jetservicesinc.com/event/d-c-united-columbus-crew/
LOCATION:NC
CATEGORIES:Audi Field,Washington, DC
END:VEVENT
BEGIN:VEVENT
DTSTART;TZID=America/New_York:20240928T160500
DTEND;TZID=America/New_York:20240928T190500
DTSTAMP:20260419T104529
CREATED:20240110T172135Z
LAST-MODIFIED:20240722T222307Z
UID:3549-1727539500-1727550300@jetservicesinc.com
SUMMARY:Phillies at Nationals
DESCRIPTION:
URL:https://jetservicesinc.com/event/phillies-at-nationals-5/
LOCATION:NC
CATEGORIES:Nationals Park,Washington, DC
END:VEVENT
BEGIN:VEVENT
DTSTART;TZID=America/New_York:20240928T190000
DTEND;TZID=America/New_York:20240928T220000
DTSTAMP:20260419T104529
CREATED:20240110T191041Z
LAST-MODIFIED:20240723T223103Z
UID:3756-1727550000-1727560800@jetservicesinc.com
SUMMARY:Sebastian Maniscalco: It Ain't Right Tour
DESCRIPTION:Sebastian Maniscalco: It Ain’t Right Tour 🎟️ Buy tickets here: https://stza.co/~5VroSz?trk=gYOO Read more here: https://stza.co/*5VroSz 🔥 The 2023 MLS Schedule is here! To celebrate\, get 60% off Stanza Plus: https://bit.ly/3V19jQL 🗑: stza.co/$delete?trk=gYOO 👍 or 👎: stza.co/$review?trk=gYOO
URL:https://jetservicesinc.com/event/sebastian-maniscalco-it-aint-right-tour/
LOCATION:NC
CATEGORIES:Capital One Arena,Washington, DC
END:VEVENT
END:VCALENDAR