BEGIN:VCALENDAR
VERSION:2.0
PRODID:-//JET Services - ECPv6.15.20//NONSGML v1.0//EN
CALSCALE:GREGORIAN
METHOD:PUBLISH
X-WR-CALNAME:JET Services
X-ORIGINAL-URL:https://jetservicesinc.com
X-WR-CALDESC:Events for JET Services
REFRESH-INTERVAL;VALUE=DURATION:PT1H
X-Robots-Tag:noindex
X-PUBLISHED-TTL:PT1H
BEGIN:VTIMEZONE
TZID:America/New_York
BEGIN:DAYLIGHT
TZOFFSETFROM:-0500
TZOFFSETTO:-0400
TZNAME:EDT
DTSTART:20250309T070000
END:DAYLIGHT
BEGIN:STANDARD
TZOFFSETFROM:-0400
TZOFFSETTO:-0500
TZNAME:EST
DTSTART:20251102T060000
END:STANDARD
BEGIN:DAYLIGHT
TZOFFSETFROM:-0500
TZOFFSETTO:-0400
TZNAME:EDT
DTSTART:20260308T070000
END:DAYLIGHT
BEGIN:STANDARD
TZOFFSETFROM:-0400
TZOFFSETTO:-0500
TZNAME:EST
DTSTART:20261101T060000
END:STANDARD
BEGIN:DAYLIGHT
TZOFFSETFROM:-0500
TZOFFSETTO:-0400
TZNAME:EDT
DTSTART:20270314T070000
END:DAYLIGHT
BEGIN:STANDARD
TZOFFSETFROM:-0400
TZOFFSETTO:-0500
TZNAME:EST
DTSTART:20271107T060000
END:STANDARD
END:VTIMEZONE
BEGIN:VEVENT
DTSTART;TZID=America/New_York:20260419T190000
DTEND;TZID=America/New_York:20260419T193000
DTSTAMP:20260419T104548
CREATED:20250413T153754Z
LAST-MODIFIED:20260321T151159Z
UID:6739-1776625200-1776627000@jetservicesinc.com
SUMMARY:Brandon Lake - with Pat Barrett - King of Hearts Tour
DESCRIPTION:Brandon Lake with special guest Pat Barrett King of Hearts Tour 5x Grammy-Award Winner Brandon Lake Reveals New Album And Brings His Largest Tour Ever to Spectrum Center On Sunday\, April 19\, 2026 Lake’s Highly Anticipated New Album\, King Of Hearts\,…\nDo you have your tickets? Tickets are on-sale now!\n⭐️ Stay ‘n Play after the event with your friends! Find the best deals on hotels\, homes and more for this game https://i.staynplay.co/f/24GwPf/deals\nBuy Tickets\nhttps://ecal.ai/f/PB3sW/2R7M4\nEvent Info\nhttps://ecal.ai/f/PB3sX/2R7M4\nWhat’s On\nhttps://ecal.ai/f/PB3sY/2R7M4\nBest Accommodation Deals\nhttps://ecal.ai/f/24GwZb/2R7M4\nX\nhttps://ecal.ai/f/PB3t1/2R7M4\nInstagram\nhttps://ecal.ai/f/PB3t2/2R7M4\nManage my ECAL\nhttps://ecal.ai/f/PB3t5/2R7M4
URL:https://jetservicesinc.com/event/brandon-lake-king-of-hearts-tour/
LOCATION:Spectrum Center\, 333 E Trade St\, Charlotte\, NC\, United States
CATEGORIES:North Carolina,Spectrum Center
END:VEVENT
END:VCALENDAR