BEGIN:VCALENDAR
VERSION:2.0
PRODID:-//JET Services - ECPv6.15.20//NONSGML v1.0//EN
CALSCALE:GREGORIAN
METHOD:PUBLISH
X-WR-CALNAME:JET Services
X-ORIGINAL-URL:https://jetservicesinc.com
X-WR-CALDESC:Events for JET Services
REFRESH-INTERVAL;VALUE=DURATION:PT1H
X-Robots-Tag:noindex
X-PUBLISHED-TTL:PT1H
BEGIN:VTIMEZONE
TZID:America/New_York
BEGIN:DAYLIGHT
TZOFFSETFROM:-0500
TZOFFSETTO:-0400
TZNAME:EDT
DTSTART:20240310T070000
END:DAYLIGHT
BEGIN:STANDARD
TZOFFSETFROM:-0400
TZOFFSETTO:-0500
TZNAME:EST
DTSTART:20241103T060000
END:STANDARD
BEGIN:DAYLIGHT
TZOFFSETFROM:-0500
TZOFFSETTO:-0400
TZNAME:EDT
DTSTART:20250309T070000
END:DAYLIGHT
BEGIN:STANDARD
TZOFFSETFROM:-0400
TZOFFSETTO:-0500
TZNAME:EST
DTSTART:20251102T060000
END:STANDARD
BEGIN:DAYLIGHT
TZOFFSETFROM:-0500
TZOFFSETTO:-0400
TZNAME:EDT
DTSTART:20260308T070000
END:DAYLIGHT
BEGIN:STANDARD
TZOFFSETFROM:-0400
TZOFFSETTO:-0500
TZNAME:EST
DTSTART:20261101T060000
END:STANDARD
END:VTIMEZONE
BEGIN:VEVENT
DTSTART;TZID=America/New_York:20250415T110500
DTEND;TZID=America/New_York:20250415T140500
DTSTAMP:20260419T124000
CREATED:20250121T191813Z
LAST-MODIFIED:20250121T191813Z
UID:6103-1744715100-1744725900@jetservicesinc.com
SUMMARY:⚾️ Scranton/Wilkes-Barre RailRiders @ Durham Bulls
DESCRIPTION:International League | ▶️ Stream live on MiLB.TV or follow all the action on Gameday.\nCatch every swing\, every pitch live! Step up to the plate and purchase your tickets now!\nBuy Tickets\nhttps://ecal.ai/f/GYGqj/2TSHG\nStream Live\nhttps://ecal.ai/f/GYGqz/2TSHG\nGame Day\nhttps://ecal.ai/f/GYGqS/2TSHG\nFacebook\nhttps://ecal.ai/f/GYGrc/2TSHG\nX\nhttps://ecal.ai/f/GYGrq/2TSHG\nInstagram\nhttps://ecal.ai/f/GYGrz/2TSHG\nTikTok\nhttps://ecal.ai/f/GYGrQ/2TSHG\nManage my ECAL\nhttps://ecal.ai/f/GYGsp/2TSHG
URL:https://jetservicesinc.com/event/%e2%9a%be%ef%b8%8f-scranton-wilkes-barre-railriders-durham-bulls/
LOCATION:Durham Bulls Athletic Park
CATEGORIES:North Carolina
END:VEVENT
BEGIN:VEVENT
DTSTART;TZID=America/New_York:20250415T183500
DTEND;TZID=America/New_York:20250415T213500
DTSTAMP:20260419T124000
CREATED:20250109T160816Z
LAST-MODIFIED:20250109T163259Z
UID:5925-1744742100-1744752900@jetservicesinc.com
SUMMARY:Guardians at Orioles
DESCRIPTION:
URL:https://jetservicesinc.com/event/guardians-at-orioles-4/
LOCATION:NC
CATEGORIES:Baltimore,Camden Yards
END:VEVENT
BEGIN:VEVENT
DTSTART;TZID=America/New_York:20250415T184500
DTEND;TZID=America/New_York:20250415T214500
DTSTAMP:20260419T124000
CREATED:20241114T134308Z
LAST-MODIFIED:20241114T141814Z
UID:5369-1744742700-1744753500@jetservicesinc.com
SUMMARY:Giants at Phillies
DESCRIPTION:
URL:https://jetservicesinc.com/event/giants-at-phillies-2/
LOCATION:NC
CATEGORIES:Citizens Bank Park,Philadelphia
END:VEVENT
BEGIN:VEVENT
DTSTART;TZID=America/New_York:20250416T183500
DTEND;TZID=America/New_York:20250416T213500
DTSTAMP:20260419T124000
CREATED:20250109T160816Z
LAST-MODIFIED:20250109T163249Z
UID:5926-1744828500-1744839300@jetservicesinc.com
SUMMARY:Guardians at Orioles
DESCRIPTION:
URL:https://jetservicesinc.com/event/guardians-at-orioles-5/
LOCATION:NC
CATEGORIES:Baltimore,Camden Yards
END:VEVENT
BEGIN:VEVENT
DTSTART;TZID=America/New_York:20250416T183500
DTEND;TZID=America/New_York:20250416T213500
DTSTAMP:20260419T124000
CREATED:20250121T191822Z
LAST-MODIFIED:20250121T191822Z
UID:6104-1744828500-1744839300@jetservicesinc.com
SUMMARY:⚾️ Scranton/Wilkes-Barre RailRiders @ Durham Bulls
DESCRIPTION:International League | ▶️ Stream live on MiLB.TV or follow all the action on Gameday.\nCatch every swing\, every pitch live! Step up to the plate and purchase your tickets now!\nBuy Tickets\nhttps://ecal.ai/f/GYGsF/2TSHG\nStream Live\nhttps://ecal.ai/f/GYGsX/2TSHG\nGame Day\nhttps://ecal.ai/f/GYGt6/2TSHG\nFacebook\nhttps://ecal.ai/f/GYGtv/2TSHG\nX\nhttps://ecal.ai/f/GYGtN/2TSHG\nInstagram\nhttps://ecal.ai/f/GYGv5/2TSHG\nTikTok\nhttps://ecal.ai/f/GYGvj/2TSHG\nManage my ECAL\nhttps://ecal.ai/f/GYGw4/2TSHG
URL:https://jetservicesinc.com/event/%e2%9a%be%ef%b8%8f-scranton-wilkes-barre-railriders-durham-bulls-2/
LOCATION:Durham Bulls Athletic Park
CATEGORIES:North Carolina
END:VEVENT
BEGIN:VEVENT
DTSTART;TZID=America/New_York:20250416T184500
DTEND;TZID=America/New_York:20250416T214500
DTSTAMP:20260419T124000
CREATED:20241114T134309Z
LAST-MODIFIED:20241114T141807Z
UID:5370-1744829100-1744839900@jetservicesinc.com
SUMMARY:Giants at Phillies
DESCRIPTION:
URL:https://jetservicesinc.com/event/giants-at-phillies-3/
LOCATION:NC
CATEGORIES:Citizens Bank Park,Philadelphia
END:VEVENT
BEGIN:VEVENT
DTSTART;TZID=America/New_York:20250417T160500
DTEND;TZID=America/New_York:20250417T190500
DTSTAMP:20260419T124000
CREATED:20241114T134309Z
LAST-MODIFIED:20241114T141759Z
UID:5371-1744905900-1744916700@jetservicesinc.com
SUMMARY:Giants at Phillies
DESCRIPTION:
URL:https://jetservicesinc.com/event/giants-at-phillies-4/
LOCATION:NC
CATEGORIES:Citizens Bank Park,Philadelphia
END:VEVENT
BEGIN:VEVENT
DTSTART;TZID=America/New_York:20250417T183500
DTEND;TZID=America/New_York:20250417T213500
DTSTAMP:20260419T124000
CREATED:20250109T160817Z
LAST-MODIFIED:20250109T163254Z
UID:5927-1744914900-1744925700@jetservicesinc.com
SUMMARY:Guardians at Orioles
DESCRIPTION:
URL:https://jetservicesinc.com/event/guardians-at-orioles-6/
LOCATION:NC
CATEGORIES:Baltimore,Camden Yards
END:VEVENT
BEGIN:VEVENT
DTSTART;TZID=America/New_York:20250417T183500
DTEND;TZID=America/New_York:20250417T213500
DTSTAMP:20260419T124000
CREATED:20250121T191830Z
LAST-MODIFIED:20250121T191830Z
UID:6105-1744914900-1744925700@jetservicesinc.com
SUMMARY:⚾️ Scranton/Wilkes-Barre RailRiders @ Durham Bulls
DESCRIPTION:International League | ▶️ Stream live on MiLB.TV or follow all the action on Gameday.\nCatch every swing\, every pitch live! Step up to the plate and purchase your tickets now!\nBuy Tickets\nhttps://ecal.ai/f/GYGwl/2TSHG\nStream Live\nhttps://ecal.ai/f/GYGwv/2TSHG\nGame Day\nhttps://ecal.ai/f/GYGwJ/2TSHG\nFacebook\nhttps://ecal.ai/f/GYGx1/2TSHG\nX\nhttps://ecal.ai/f/GYGxf/2TSHG\nInstagram\nhttps://ecal.ai/f/GYGxl/2TSHG\nTikTok\nhttps://ecal.ai/f/GYGxB/2TSHG\nManage my ECAL\nhttps://ecal.ai/f/GYGyh/2TSHG
URL:https://jetservicesinc.com/event/%e2%9a%be%ef%b8%8f-scranton-wilkes-barre-railriders-durham-bulls-3/
LOCATION:Durham Bulls Athletic Park
CATEGORIES:North Carolina
END:VEVENT
BEGIN:VEVENT
DTSTART;TZID=America/New_York:20250418T183500
DTEND;TZID=America/New_York:20250418T213500
DTSTAMP:20260419T124000
CREATED:20250121T191841Z
LAST-MODIFIED:20250121T191841Z
UID:6106-1745001300-1745012100@jetservicesinc.com
SUMMARY:⚾️ Scranton/Wilkes-Barre RailRiders @ Durham Bulls
DESCRIPTION:International League | ▶️ Stream live on MiLB.TV or follow all the action on Gameday.\nCatch every swing\, every pitch live! Step up to the plate and purchase your tickets now!\nBuy Tickets\nhttps://ecal.ai/f/GYGyL/2TSHG\nStream Live\nhttps://ecal.ai/f/GYGyY/2TSHG\nGame Day\nhttps://ecal.ai/f/GYGzg/2TSHG\nFacebook\nhttps://ecal.ai/f/GYGzy/2TSHG\nX\nhttps://ecal.ai/f/GYGzN/2TSHG\nInstagram\nhttps://ecal.ai/f/GYGzY/2TSHG\nTikTok\nhttps://ecal.ai/f/GYGB9/2TSHG\nManage my ECAL\nhttps://ecal.ai/f/GYGBV/2TSHG
URL:https://jetservicesinc.com/event/%e2%9a%be%ef%b8%8f-scranton-wilkes-barre-railriders-durham-bulls-4/
LOCATION:Durham Bulls Athletic Park
CATEGORIES:North Carolina
END:VEVENT
BEGIN:VEVENT
DTSTART;TZID=America/New_York:20250418T184500
DTEND;TZID=America/New_York:20250418T214500
DTSTAMP:20260419T124000
CREATED:20241114T134314Z
LAST-MODIFIED:20241114T141753Z
UID:5372-1745001900-1745012700@jetservicesinc.com
SUMMARY:Marlins at Phillies
DESCRIPTION:
URL:https://jetservicesinc.com/event/marlins-at-phillies/
LOCATION:NC
CATEGORIES:Citizens Bank Park,Philadelphia
END:VEVENT
BEGIN:VEVENT
DTSTART;TZID=America/New_York:20250418T190500
DTEND;TZID=America/New_York:20250418T220500
DTSTAMP:20260419T124000
CREATED:20250109T160817Z
LAST-MODIFIED:20250109T163244Z
UID:5928-1745003100-1745013900@jetservicesinc.com
SUMMARY:Reds at Orioles
DESCRIPTION:
URL:https://jetservicesinc.com/event/reds-at-orioles/
LOCATION:NC
CATEGORIES:Baltimore,Camden Yards
END:VEVENT
BEGIN:VEVENT
DTSTART;TZID=America/New_York:20250419T130500
DTEND;TZID=America/New_York:20250419T160500
DTSTAMP:20260419T124000
CREATED:20241114T134314Z
LAST-MODIFIED:20241114T141746Z
UID:5373-1745067900-1745078700@jetservicesinc.com
SUMMARY:Marlins at Phillies
DESCRIPTION:
URL:https://jetservicesinc.com/event/marlins-at-phillies-2/
LOCATION:NC
CATEGORIES:Citizens Bank Park,Philadelphia
END:VEVENT
BEGIN:VEVENT
DTSTART;TZID=America/New_York:20250419T160500
DTEND;TZID=America/New_York:20250419T190500
DTSTAMP:20260419T124000
CREATED:20250109T160818Z
LAST-MODIFIED:20250109T163239Z
UID:5929-1745078700-1745089500@jetservicesinc.com
SUMMARY:Reds at Orioles
DESCRIPTION:
URL:https://jetservicesinc.com/event/reds-at-orioles-2/
LOCATION:NC
CATEGORIES:Baltimore,Camden Yards
END:VEVENT
BEGIN:VEVENT
DTSTART;TZID=America/New_York:20250419T183500
DTEND;TZID=America/New_York:20250419T213500
DTSTAMP:20260419T124000
CREATED:20250121T191849Z
LAST-MODIFIED:20250121T191849Z
UID:6107-1745087700-1745098500@jetservicesinc.com
SUMMARY:⚾️ Scranton/Wilkes-Barre RailRiders @ Durham Bulls
DESCRIPTION:International League | ▶️ Stream live on MiLB.TV or follow all the action on Gameday.\nCatch every swing\, every pitch live! Step up to the plate and purchase your tickets now!\nBuy Tickets\nhttps://ecal.ai/f/GYGCb/2TSHG\nStream Live\nhttps://ecal.ai/f/GYGCr/2TSHG\nGame Day\nhttps://ecal.ai/f/GYGCw/2TSHG\nFacebook\nhttps://ecal.ai/f/GYGCQ/2TSHG\nX\nhttps://ecal.ai/f/GYGD9/2TSHG\nInstagram\nhttps://ecal.ai/f/GYGDr/2TSHG\nTikTok\nhttps://ecal.ai/f/GYGDD/2TSHG\nManage my ECAL\nhttps://ecal.ai/f/GYGG3/2TSHG
URL:https://jetservicesinc.com/event/%e2%9a%be%ef%b8%8f-scranton-wilkes-barre-railriders-durham-bulls-5/
LOCATION:Durham Bulls Athletic Park
CATEGORIES:North Carolina
END:VEVENT
BEGIN:VEVENT
DTSTART;TZID=America/New_York:20250419T193000
DTEND;TZID=America/New_York:20250419T213000
DTSTAMP:20260419T124000
CREATED:20241227T145050Z
LAST-MODIFIED:20241227T145050Z
UID:5867-1745091000-1745098200@jetservicesinc.com
SUMMARY:Charlotte FC v San Diego
DESCRIPTION:
URL:https://jetservicesinc.com/event/charlotte-fc-v-san-diego/
LOCATION:Bank of America Stadium\, 800 South Mint Street\, Charlotte\, US 28202
CATEGORIES:Bank of America Stadium,North Carolina
END:VEVENT
BEGIN:VEVENT
DTSTART;TZID=America/New_York:20250420T133500
DTEND;TZID=America/New_York:20250420T163500
DTSTAMP:20260419T124000
CREATED:20241114T134314Z
LAST-MODIFIED:20241114T141740Z
UID:5374-1745156100-1745166900@jetservicesinc.com
SUMMARY:Marlins at Phillies
DESCRIPTION:
URL:https://jetservicesinc.com/event/marlins-at-phillies-3/
LOCATION:NC
CATEGORIES:Citizens Bank Park,Philadelphia
END:VEVENT
BEGIN:VEVENT
DTSTART;TZID=America/New_York:20250420T133500
DTEND;TZID=America/New_York:20250420T163500
DTSTAMP:20260419T124000
CREATED:20250109T160819Z
LAST-MODIFIED:20250109T163234Z
UID:5930-1745156100-1745166900@jetservicesinc.com
SUMMARY:Reds at Orioles
DESCRIPTION:
URL:https://jetservicesinc.com/event/reds-at-orioles-3/
LOCATION:NC
CATEGORIES:Baltimore,Camden Yards
END:VEVENT
BEGIN:VEVENT
DTSTART;TZID=America/New_York:20250420T170000
DTEND;TZID=America/New_York:20250420T190000
DTSTAMP:20260419T124000
CREATED:20250125T134802Z
LAST-MODIFIED:20250125T134802Z
UID:6290-1745168400-1745175600@jetservicesinc.com
SUMMARY:DC Defenders
DESCRIPTION:
URL:https://jetservicesinc.com/event/dc-defenders-3/
LOCATION:Audi Field Washington\, D.C. USA
CATEGORIES:Audi Field,Washington, DC
END:VEVENT
BEGIN:VEVENT
DTSTART;TZID=America/New_York:20250420T170500
DTEND;TZID=America/New_York:20250420T200500
DTSTAMP:20260419T124000
CREATED:20250121T191859Z
LAST-MODIFIED:20250121T191859Z
UID:6108-1745168700-1745179500@jetservicesinc.com
SUMMARY:⚾️ Scranton/Wilkes-Barre RailRiders @ Durham Bulls
DESCRIPTION:International League | ▶️ Stream live on MiLB.TV or follow all the action on Gameday.\nCatch every swing\, every pitch live! Step up to the plate and purchase your tickets now!\nBuy Tickets\nhttps://ecal.ai/f/GYGGf/2TSHG\nStream Live\nhttps://ecal.ai/f/GYGGr/2TSHG\nGame Day\nhttps://ecal.ai/f/GYGGJ/2TSHG\nFacebook\nhttps://ecal.ai/f/GYGGX/2TSHG\nX\nhttps://ecal.ai/f/GYGHc/2TSHG\nInstagram\nhttps://ecal.ai/f/GYGHs/2TSHG\nTikTok\nhttps://ecal.ai/f/GYGHK/2TSHG\nManage my ECAL\nhttps://ecal.ai/f/GYGJs/2TSHG
URL:https://jetservicesinc.com/event/%e2%9a%be%ef%b8%8f-scranton-wilkes-barre-railriders-durham-bulls-6/
LOCATION:Durham Bulls Athletic Park
CATEGORIES:North Carolina
END:VEVENT
BEGIN:VEVENT
DTSTART;TZID=America/New_York:20250422T184500
DTEND;TZID=America/New_York:20250422T214500
DTSTAMP:20260419T124000
CREATED:20241113T201424Z
LAST-MODIFIED:20241113T201424Z
UID:5234-1745347500-1745358300@jetservicesinc.com
SUMMARY:Orioles at Nationals
DESCRIPTION:
URL:https://jetservicesinc.com/event/orioles-at-nationals-3/
LOCATION:NC
CATEGORIES:Washington, DC
END:VEVENT
BEGIN:VEVENT
DTSTART;TZID=America/New_York:20250423T184500
DTEND;TZID=America/New_York:20250423T214500
DTSTAMP:20260419T124000
CREATED:20241113T201522Z
LAST-MODIFIED:20241113T201522Z
UID:5235-1745433900-1745444700@jetservicesinc.com
SUMMARY:Orioles at Nationals
DESCRIPTION:
URL:https://jetservicesinc.com/event/orioles-at-nationals-4/
LOCATION:NC
CATEGORIES:Washington, DC
END:VEVENT
BEGIN:VEVENT
DTSTART;TZID=America/New_York:20250424T184500
DTEND;TZID=America/New_York:20250424T214500
DTSTAMP:20260419T124000
CREATED:20241113T201523Z
LAST-MODIFIED:20250109T163346Z
UID:5236-1745520300-1745531100@jetservicesinc.com
SUMMARY:Orioles at Nationals
DESCRIPTION:
URL:https://jetservicesinc.com/event/orioles-at-nationals-5/
LOCATION:NC
CATEGORIES:Nationals Park,Washington, DC
END:VEVENT
BEGIN:VEVENT
DTSTART;TZID=America/New_York:20250425T184500
DTEND;TZID=America/New_York:20250425T214500
DTSTAMP:20260419T124000
CREATED:20241113T201523Z
LAST-MODIFIED:20241113T201523Z
UID:5237-1745606700-1745617500@jetservicesinc.com
SUMMARY:Mets at Nationals
DESCRIPTION:
URL:https://jetservicesinc.com/event/mets-at-nationals/
LOCATION:NC
CATEGORIES:Washington, DC
END:VEVENT
BEGIN:VEVENT
DTSTART;TZID=America/New_York:20250426T130000
DTEND;TZID=America/New_York:20250426T170000
DTSTAMP:20260419T124000
CREATED:20241114T142652Z
LAST-MODIFIED:20241114T142652Z
UID:5448-1745672400-1745686800@jetservicesinc.com
SUMMARY:Monster Jam
DESCRIPTION:
URL:https://jetservicesinc.com/event/monster-jam-2/
LOCATION:Lincoln Financial Field\, One Lincoln Financial Way\, Philadelphia\, US 19148
CATEGORIES:Lincoln Financial Field,Philadelphia
END:VEVENT
BEGIN:VEVENT
DTSTART;TZID=America/New_York:20250426T130000
DTEND;TZID=America/New_York:20250426T170000
DTSTAMP:20260419T124000
CREATED:20250125T135559Z
LAST-MODIFIED:20250125T135559Z
UID:6296-1745672400-1745686800@jetservicesinc.com
SUMMARY:Washington Spirit
DESCRIPTION:
URL:https://jetservicesinc.com/event/washington-spirit-8/
LOCATION:Audi Field Washington\, D.C. USA
CATEGORIES:Audi Field,Washington, DC
END:VEVENT
BEGIN:VEVENT
DTSTART;TZID=America/New_York:20250426T160500
DTEND;TZID=America/New_York:20250426T190500
DTSTAMP:20260419T124000
CREATED:20241113T201523Z
LAST-MODIFIED:20241113T201523Z
UID:5238-1745683500-1745694300@jetservicesinc.com
SUMMARY:Mets at Nationals
DESCRIPTION:
URL:https://jetservicesinc.com/event/mets-at-nationals-11/
LOCATION:NC
CATEGORIES:Washington, DC
END:VEVENT
BEGIN:VEVENT
DTSTART;TZID=America/New_York:20250426T193000
DTEND;TZID=America/New_York:20250426T210000
DTSTAMP:20260419T124000
CREATED:20241227T145126Z
LAST-MODIFIED:20241227T145126Z
UID:5868-1745695800-1745701200@jetservicesinc.com
SUMMARY:Charlotte FC v New England
DESCRIPTION:
URL:https://jetservicesinc.com/event/charlotte-fc-v-new-england/
LOCATION:Bank of America Stadium 800 South Mint Street Charlotte NC 28202 USA
CATEGORIES:Bank of America Stadium,North Carolina
END:VEVENT
BEGIN:VEVENT
DTSTART;TZID=America/New_York:20250427T133500
DTEND;TZID=America/New_York:20250427T163500
DTSTAMP:20260419T124000
CREATED:20241113T201524Z
LAST-MODIFIED:20241113T201524Z
UID:5239-1745760900-1745771700@jetservicesinc.com
SUMMARY:Mets at Nationals
DESCRIPTION:
URL:https://jetservicesinc.com/event/mets-at-nationals-12/
LOCATION:NC
CATEGORIES:Washington, DC
END:VEVENT
BEGIN:VEVENT
DTSTART;TZID=America/New_York:20250428T160500
DTEND;TZID=America/New_York:20250428T190500
DTSTAMP:20260419T124000
CREATED:20241113T201622Z
LAST-MODIFIED:20241113T201622Z
UID:5240-1745856300-1745867100@jetservicesinc.com
SUMMARY:Mets at Nationals
DESCRIPTION:
URL:https://jetservicesinc.com/event/mets-at-nationals-13/
LOCATION:NC
CATEGORIES:Washington, DC
END:VEVENT
END:VCALENDAR